BEGIN:VCALENDAR
VERSION:2.0
PRODID:-//Central Park - ECPv6.15.14//NONSGML v1.0//EN
CALSCALE:GREGORIAN
METHOD:PUBLISH
X-WR-CALNAME:Central Park
X-ORIGINAL-URL:https://centralpark.ie
X-WR-CALDESC:Events for Central Park
REFRESH-INTERVAL;VALUE=DURATION:PT1H
X-Robots-Tag:noindex
X-PUBLISHED-TTL:PT1H
BEGIN:VTIMEZONE
TZID:Europe/Dublin
BEGIN:DAYLIGHT
TZOFFSETFROM:+0000
TZOFFSETTO:+0100
TZNAME:IST
DTSTART:20240331T010000
END:DAYLIGHT
BEGIN:STANDARD
TZOFFSETFROM:+0100
TZOFFSETTO:+0000
TZNAME:GMT
DTSTART:20241027T010000
END:STANDARD
BEGIN:DAYLIGHT
TZOFFSETFROM:+0000
TZOFFSETTO:+0100
TZNAME:IST
DTSTART:20250330T010000
END:DAYLIGHT
BEGIN:STANDARD
TZOFFSETFROM:+0100
TZOFFSETTO:+0000
TZNAME:GMT
DTSTART:20251026T010000
END:STANDARD
BEGIN:DAYLIGHT
TZOFFSETFROM:+0000
TZOFFSETTO:+0100
TZNAME:IST
DTSTART:20260329T010000
END:DAYLIGHT
BEGIN:STANDARD
TZOFFSETFROM:+0100
TZOFFSETTO:+0000
TZNAME:GMT
DTSTART:20261025T010000
END:STANDARD
END:VTIMEZONE
BEGIN:VEVENT
DTSTART;TZID=Europe/Dublin:20250311T123000
DTEND;TZID=Europe/Dublin:20250311T133000
DTSTAMP:20260421T193224
CREATED:20250218T181024Z
LAST-MODIFIED:20250218T181024Z
UID:10000010-1741696200-1741699800@centralpark.ie
SUMMARY:Tuesday Walking Club
DESCRIPTION:Live Work Grow are launching a new Walking Club every Tuesday at 12:30 PM with walking loops around Central Park and surrounding areas. This is the  perfect chance to stretch your legs\, get outdoors and chat with like-minded people! 🚶‍♂️✨ \nFirst Meet Up:  \nTuesday\, March 11th at 12.30pm at The Art of Coffee Shop for a complimentary coffee\, chat with other members and discuss walking group plans and routes. Register your free space below. \nIf you cannot make the initial planning meet up but would still like to be part of the walking group\, email us at liveworkgrow@centralpark.ie and we will circulate all details to you about the weekly walks. \nLet’s step away from our desks\, get moving\, and grow together! 🌱
URL:https://centralpark.ie/event/tuesday-walking-club/
LOCATION:The art of coffee shop\, Block F Unit FG\, 02 Central Park\, Carmanhall And Leopardstown
ATTACH;FMTTYPE=image/jpeg:https://centralpark.ie/wp-content/uploads/2025/02/Walking-group.jpg
ORGANIZER;CN="Live Work Grow":MAILTO:liveworkgrow@centralpark.ie
GEO:53.2664782;-6.192451
X-APPLE-STRUCTURED-LOCATION;VALUE=URI;X-ADDRESS=The art of coffee shop Block F Unit FG 02 Central Park Carmanhall And Leopardstown;X-APPLE-RADIUS=500;X-TITLE=Block F Unit FG\, 02 Central Park\, Carmanhall And Leopardstown:geo:-6.192451,53.2664782
END:VEVENT
END:VCALENDAR